BEGIN:VCALENDAR
VERSION:2.0
PRODID:-//Zen del Sur -  XPECTRO - ECPv6.15.19//NONSGML v1.0//EN
CALSCALE:GREGORIAN
METHOD:PUBLISH
X-ORIGINAL-URL:https://zendelsur-xpectro.es
X-WR-CALDESC:Eventos para Zen del Sur -  XPECTRO
REFRESH-INTERVAL;VALUE=DURATION:PT1H
X-Robots-Tag:noindex
X-PUBLISHED-TTL:PT1H
BEGIN:VTIMEZONE
TZID:Europe/Madrid
BEGIN:DAYLIGHT
TZOFFSETFROM:+0100
TZOFFSETTO:+0200
TZNAME:CEST
DTSTART:20220327T010000
END:DAYLIGHT
BEGIN:STANDARD
TZOFFSETFROM:+0200
TZOFFSETTO:+0100
TZNAME:CET
DTSTART:20221030T010000
END:STANDARD
BEGIN:DAYLIGHT
TZOFFSETFROM:+0100
TZOFFSETTO:+0200
TZNAME:CEST
DTSTART:20230326T010000
END:DAYLIGHT
BEGIN:STANDARD
TZOFFSETFROM:+0200
TZOFFSETTO:+0100
TZNAME:CET
DTSTART:20231029T010000
END:STANDARD
BEGIN:DAYLIGHT
TZOFFSETFROM:+0100
TZOFFSETTO:+0200
TZNAME:CEST
DTSTART:20240331T010000
END:DAYLIGHT
BEGIN:STANDARD
TZOFFSETFROM:+0200
TZOFFSETTO:+0100
TZNAME:CET
DTSTART:20241027T010000
END:STANDARD
END:VTIMEZONE
BEGIN:VEVENT
DTSTART;TZID=Europe/Madrid:20230408T140000
DTEND;TZID=Europe/Madrid:20230408T143000
DTSTAMP:20260421T123912
CREATED:20230406T191930Z
LAST-MODIFIED:20230406T191930Z
UID:8942-1680962400-1680964200@zendelsur-xpectro.es
SUMMARY:Órbita – Zen del Sur
DESCRIPTION:
URL:https://zendelsur-xpectro.es/evento/orbita-zen-del-sur-3/
LOCATION:De Gevleugelde Stad Ieper – City of Wings Ypres\, Bélgica
END:VEVENT
BEGIN:VEVENT
DTSTART;TZID=Europe/Madrid:20230408T153000
DTEND;TZID=Europe/Madrid:20230408T160000
DTSTAMP:20260421T123912
CREATED:20230406T192232Z
LAST-MODIFIED:20230406T192232Z
UID:8945-1680967800-1680969600@zendelsur-xpectro.es
SUMMARY:Órbita – Zen del Sur
DESCRIPTION:
URL:https://zendelsur-xpectro.es/evento/orbita-zen-del-sur-4/
LOCATION:De Gevleugelde Stad Ieper – City of Wings Ypres\, Bélgica
END:VEVENT
END:VCALENDAR