BEGIN:VCALENDAR
VERSION:2.0
PRODID:-//Zen del Sur -  XPECTRO - ECPv6.15.19//NONSGML v1.0//EN
CALSCALE:GREGORIAN
METHOD:PUBLISH
X-WR-CALNAME:Zen del Sur -  XPECTRO
X-ORIGINAL-URL:https://zendelsur-xpectro.es
X-WR-CALDESC:Eventos para Zen del Sur -  XPECTRO
REFRESH-INTERVAL;VALUE=DURATION:PT1H
X-Robots-Tag:noindex
X-PUBLISHED-TTL:PT1H
BEGIN:VTIMEZONE
TZID:Europe/Madrid
BEGIN:DAYLIGHT
TZOFFSETFROM:+0100
TZOFFSETTO:+0200
TZNAME:CEST
DTSTART:20220327T010000
END:DAYLIGHT
BEGIN:STANDARD
TZOFFSETFROM:+0200
TZOFFSETTO:+0100
TZNAME:CET
DTSTART:20221030T010000
END:STANDARD
BEGIN:DAYLIGHT
TZOFFSETFROM:+0100
TZOFFSETTO:+0200
TZNAME:CEST
DTSTART:20230326T010000
END:DAYLIGHT
BEGIN:STANDARD
TZOFFSETFROM:+0200
TZOFFSETTO:+0100
TZNAME:CET
DTSTART:20231029T010000
END:STANDARD
BEGIN:DAYLIGHT
TZOFFSETFROM:+0100
TZOFFSETTO:+0200
TZNAME:CEST
DTSTART:20240331T010000
END:DAYLIGHT
BEGIN:STANDARD
TZOFFSETFROM:+0200
TZOFFSETTO:+0100
TZNAME:CET
DTSTART:20241027T010000
END:STANDARD
END:VTIMEZONE
BEGIN:VEVENT
DTSTART;TZID=Europe/Madrid:20230527T170000
DTEND;TZID=Europe/Madrid:20230528T180000
DTSTAMP:20260421T111512
CREATED:20230504T211947Z
LAST-MODIFIED:20230504T211947Z
UID:8955-1685206800-1685296800@zendelsur-xpectro.es
SUMMARY:Festival Het Tussenland
DESCRIPTION:
URL:https://zendelsur-xpectro.es/evento/festival-het-tussenland/
LOCATION:Zwolle\, Paises Bajos
END:VEVENT
END:VCALENDAR