BEGIN:VCALENDAR
VERSION:2.0
PRODID:-//Zen del Sur -  XPECTRO - ECPv6.15.19//NONSGML v1.0//EN
CALSCALE:GREGORIAN
METHOD:PUBLISH
X-ORIGINAL-URL:https://zendelsur-xpectro.es
X-WR-CALDESC:Eventos para Zen del Sur -  XPECTRO
REFRESH-INTERVAL;VALUE=DURATION:PT1H
X-Robots-Tag:noindex
X-PUBLISHED-TTL:PT1H
BEGIN:VTIMEZONE
TZID:UTC
BEGIN:STANDARD
TZOFFSETFROM:+0000
TZOFFSETTO:+0000
TZNAME:UTC
DTSTART:20240101T000000
END:STANDARD
END:VTIMEZONE
BEGIN:VEVENT
DTSTART;TZID=UTC:20250311T190000
DTEND;TZID=UTC:20250311T200000
DTSTAMP:20260420T043255
CREATED:20250214T103402Z
LAST-MODIFIED:20250214T103430Z
UID:23147-1741719600-1741723200@zendelsur-xpectro.es
SUMMARY:Órbita en Auditorio Instituto Cervantes de Nueva York
DESCRIPTION:Órbita es pura poesía en movimiento. Una obra cargada de emoción\, fuerza y sensibilidad\, que ofrece al público una visión integrada de una verdadera fusión artística entre danza acrobática\, danza urbana\, flamenco\, rueda Cyr\, boleadoras y acrobalance. Carlos López y Noemí Pareja\, dos artistas polifacéticos\, interactúan a través de diferentes estilos contemporáneos de movimiento\, elementos circenses\, danza y música en directo bajo la atracción gravitatoria de sus raíces: Andalucía y el flamenco. El espectáculo invita al público a un viaje onírico que nos guía hacia nuestras raíces. \nCopresentado con el Instituto Cervantes de Nueva York y el Centro KJCIC de la NYU. \nGRATUITO
URL:https://zendelsur-xpectro.es/evento/orbita-en-auditorio-instituto-cervantes-de-nueva-york/
LOCATION:Galería Instituto Cervantes de Nueva York\, 211-215 E 49th St\, Nueva York\, NY\, 10017\, United States
ATTACH;FMTTYPE=image/webp:https://zendelsur-xpectro.es/wp-content/uploads/2025/02/cartel-1-scaled-1.webp
END:VEVENT
END:VCALENDAR