BEGIN:VCALENDAR
VERSION:2.0
PRODID:-//Zen del Sur -  XPECTRO - ECPv6.15.19//NONSGML v1.0//EN
CALSCALE:GREGORIAN
METHOD:PUBLISH
X-ORIGINAL-URL:https://zendelsur-xpectro.es
X-WR-CALDESC:Eventos para Zen del Sur -  XPECTRO
REFRESH-INTERVAL;VALUE=DURATION:PT1H
X-Robots-Tag:noindex
X-PUBLISHED-TTL:PT1H
BEGIN:VTIMEZONE
TZID:UTC
BEGIN:STANDARD
TZOFFSETFROM:+0000
TZOFFSETTO:+0000
TZNAME:UTC
DTSTART:20240101T000000
END:STANDARD
END:VTIMEZONE
BEGIN:VTIMEZONE
TZID:Europe/Madrid
BEGIN:DAYLIGHT
TZOFFSETFROM:+0100
TZOFFSETTO:+0200
TZNAME:CEST
DTSTART:20220327T010000
END:DAYLIGHT
BEGIN:STANDARD
TZOFFSETFROM:+0200
TZOFFSETTO:+0100
TZNAME:CET
DTSTART:20221030T010000
END:STANDARD
BEGIN:DAYLIGHT
TZOFFSETFROM:+0100
TZOFFSETTO:+0200
TZNAME:CEST
DTSTART:20230326T010000
END:DAYLIGHT
BEGIN:STANDARD
TZOFFSETFROM:+0200
TZOFFSETTO:+0100
TZNAME:CET
DTSTART:20231029T010000
END:STANDARD
BEGIN:DAYLIGHT
TZOFFSETFROM:+0100
TZOFFSETTO:+0200
TZNAME:CEST
DTSTART:20240331T010000
END:DAYLIGHT
BEGIN:STANDARD
TZOFFSETFROM:+0200
TZOFFSETTO:+0100
TZNAME:CET
DTSTART:20241027T010000
END:STANDARD
BEGIN:DAYLIGHT
TZOFFSETFROM:+0100
TZOFFSETTO:+0200
TZNAME:CEST
DTSTART:20250330T010000
END:DAYLIGHT
BEGIN:STANDARD
TZOFFSETFROM:+0200
TZOFFSETTO:+0100
TZNAME:CET
DTSTART:20251026T010000
END:STANDARD
END:VTIMEZONE
BEGIN:VEVENT
DTSTART;TZID=UTC:20251115T200000
DTEND;TZID=UTC:20251115T210000
DTSTAMP:20260419T155048
CREATED:20251029T162013Z
LAST-MODIFIED:20251029T162013Z
UID:23290-1763236800-1763240400@zendelsur-xpectro.es
SUMMARY:Xpectro
DESCRIPTION:
URL:https://zendelsur-xpectro.es/evento/xpectro-15/
LOCATION:Gran Teatro\, Manzanares\, Ciudad Real
END:VEVENT
BEGIN:VEVENT
DTSTART;TZID=UTC:20251114T203000
DTEND;TZID=UTC:20251114T213000
DTSTAMP:20260419T155048
CREATED:20251029T161811Z
LAST-MODIFIED:20251029T161811Z
UID:23287-1763152200-1763155800@zendelsur-xpectro.es
SUMMARY:Xpectro
DESCRIPTION:
URL:https://zendelsur-xpectro.es/evento/xpectro-14/
LOCATION:Teatro Silo\, Pozoblanco\, Córdoba
END:VEVENT
BEGIN:VEVENT
DTSTART;TZID=UTC:20251109T180000
DTEND;TZID=UTC:20251109T190000
DTSTAMP:20260419T155048
CREATED:20251029T161512Z
LAST-MODIFIED:20251029T161512Z
UID:23284-1762711200-1762714800@zendelsur-xpectro.es
SUMMARY:Xpectro
DESCRIPTION:
URL:https://zendelsur-xpectro.es/evento/xpectro-8/
LOCATION:Teatro Nuevo Caderón\, Montijo\, Extremadura
END:VEVENT
BEGIN:VEVENT
DTSTART;TZID=UTC:20251102T190000
DTEND;TZID=UTC:20251102T200000
DTSTAMP:20260419T155048
CREATED:20251029T161201Z
LAST-MODIFIED:20251029T161201Z
UID:23281-1762110000-1762113600@zendelsur-xpectro.es
SUMMARY:Xpectro
DESCRIPTION:
URL:https://zendelsur-xpectro.es/evento/xpectro-7/
LOCATION:Casa de la Cultura\, Bolaños de Calatrava\, Castilla la Mancha
END:VEVENT
BEGIN:VEVENT
DTSTART;TZID=UTC:20251101T200000
DTEND;TZID=UTC:20251101T210000
DTSTAMP:20260419T155048
CREATED:20251029T160715Z
LAST-MODIFIED:20251029T160715Z
UID:23278-1762027200-1762030800@zendelsur-xpectro.es
SUMMARY:Xpectro
DESCRIPTION:
URL:https://zendelsur-xpectro.es/evento/xpectro-6/
LOCATION:Teatro Liceo de Salamanca\, Castilla y León\, Spain
END:VEVENT
BEGIN:VEVENT
DTSTART;TZID=UTC:20250720T223000
DTEND;TZID=UTC:20250720T233000
DTSTAMP:20260419T155048
CREATED:20250615T170247Z
LAST-MODIFIED:20250615T170247Z
UID:23258-1753050600-1753054200@zendelsur-xpectro.es
SUMMARY:Xpectro
DESCRIPTION:
URL:https://zendelsur-xpectro.es/evento/xpectro-13/
LOCATION:Fira de Circ al Carrer. La Bisbal d’Empordà\, Plaça del Castell\, La Bisbal d’Empordà\, Spain
END:VEVENT
BEGIN:VEVENT
DTSTART;TZID=UTC:20250715T210000
DTEND;TZID=UTC:20250715T220000
DTSTAMP:20260419T155048
CREATED:20250615T165746Z
LAST-MODIFIED:20250615T165746Z
UID:23255-1752613200-1752616800@zendelsur-xpectro.es
SUMMARY:Xpectro
DESCRIPTION:
URL:https://zendelsur-xpectro.es/evento/xpectro-12/
LOCATION:Parque Guaynabo\, Alobolote\, Granada\, Spain
END:VEVENT
BEGIN:VEVENT
DTSTART;TZID=UTC:20250709T190000
DTEND;TZID=UTC:20250714T200000
DTSTAMP:20260419T155048
CREATED:20250615T165318Z
LAST-MODIFIED:20250615T165318Z
UID:23252-1752087600-1752523200@zendelsur-xpectro.es
SUMMARY:Órbita
DESCRIPTION:
URL:https://zendelsur-xpectro.es/evento/orbita/
LOCATION:Festival Universitario de El Cairo\, Alejandría\, Egypt
END:VEVENT
BEGIN:VEVENT
DTSTART;TZID=UTC:20250628T203000
DTEND;TZID=UTC:20250628T213000
DTSTAMP:20260419T155048
CREATED:20250615T165115Z
LAST-MODIFIED:20250615T165115Z
UID:23249-1751142600-1751146200@zendelsur-xpectro.es
SUMMARY:Xpectro
DESCRIPTION:
URL:https://zendelsur-xpectro.es/evento/xpectro-11/
LOCATION:CIrkorama - Centro Cultural MVA\, Málaga
END:VEVENT
BEGIN:VEVENT
DTSTART;TZID=UTC:20250627T203000
DTEND;TZID=UTC:20250627T213000
DTSTAMP:20260419T155048
CREATED:20250615T164610Z
LAST-MODIFIED:20250624T144357Z
UID:23246-1751056200-1751059800@zendelsur-xpectro.es
SUMMARY:Xpectro
DESCRIPTION:
URL:https://zendelsur-xpectro.es/evento/xpectro-10/
LOCATION:Torremolinos - Fstival Cirkorama\, Parque de la Batería\, Torremolinos\, Málaga\, Spain
END:VEVENT
BEGIN:VEVENT
DTSTART;TZID=UTC:20250626T220000
DTEND;TZID=UTC:20250626T230000
DTSTAMP:20260419T155048
CREATED:20250615T164226Z
LAST-MODIFIED:20250615T164226Z
UID:23243-1750975200-1750978800@zendelsur-xpectro.es
SUMMARY:Xpectro
DESCRIPTION:
URL:https://zendelsur-xpectro.es/evento/xpectro-9/
LOCATION:VI Feira Ibérica de Teatro do Fundão\, Fundäo\, Portugal
END:VEVENT
BEGIN:VEVENT
DTSTART;TZID=UTC:20250517T190000
DTEND;TZID=UTC:20250517T200000
DTSTAMP:20260419T155048
CREATED:20250410T112715Z
LAST-MODIFIED:20250410T112715Z
UID:23207-1747508400-1747512000@zendelsur-xpectro.es
SUMMARY:Xpectro
DESCRIPTION:
URL:https://zendelsur-xpectro.es/evento/xpectro-5/
LOCATION:Feria Internacional de Circo TRAPEZI\, Reus
END:VEVENT
BEGIN:VEVENT
DTSTART;TZID=UTC:20250516T193000
DTEND;TZID=UTC:20250516T203000
DTSTAMP:20260419T155048
CREATED:20250410T112455Z
LAST-MODIFIED:20250410T112455Z
UID:23204-1747423800-1747427400@zendelsur-xpectro.es
SUMMARY:Xpectro
DESCRIPTION:
URL:https://zendelsur-xpectro.es/evento/xpectro-4/
LOCATION:Rivas Vacia Madrid
END:VEVENT
BEGIN:VEVENT
DTSTART;TZID=UTC:20250515T223000
DTEND;TZID=UTC:20250515T233000
DTSTAMP:20260419T155048
CREATED:20250410T112234Z
LAST-MODIFIED:20250410T112234Z
UID:23199-1747348200-1747351800@zendelsur-xpectro.es
SUMMARY:Xpectro
DESCRIPTION:
URL:https://zendelsur-xpectro.es/evento/xpectro-3/
LOCATION:XXV Feria Internacional de teatro de calle Umore Azoka\, Leioa\, Vizcaya
END:VEVENT
BEGIN:VEVENT
DTSTART;TZID=UTC:20250411T210000
DTEND;TZID=UTC:20250411T220000
DTSTAMP:20260419T155048
CREATED:20250410T111814Z
LAST-MODIFIED:20250410T111814Z
UID:23196-1744405200-1744408800@zendelsur-xpectro.es
SUMMARY:Xpectro
DESCRIPTION:
URL:https://zendelsur-xpectro.es/evento/xpectro-2/
LOCATION:Teatro Auditorio de Iscar\, Íscar\, Valladolid
END:VEVENT
BEGIN:VEVENT
DTSTART;TZID=UTC:20250322T180000
DTEND;TZID=UTC:20250322T190000
DTSTAMP:20260419T155048
CREATED:20250214T121135Z
LAST-MODIFIED:20250214T121614Z
UID:23153-1742666400-1742670000@zendelsur-xpectro.es
SUMMARY:Xpectro en el Teatro Alameda
DESCRIPTION:Xpectro es un espectáculo multidisciplinar que aborda el autismo y otras neurodivergencias desde un enfoque creativo y pedagógico para invitar al espectador a adentrarse en un universo de emociones\, ofreciendo una mirada reflexiva y empática hacia la diversidad.\n\nEntradas a la venta en teatroalamedasevilla.sacatuentrada.es/es/productos/descripcion/xpectro-familiar
URL:https://zendelsur-xpectro.es/evento/xpectro-en-el-teatro-alameda/
LOCATION:Teatro Alameda
ATTACH;FMTTYPE=image/webp:https://zendelsur-xpectro.es/wp-content/uploads/2025/02/Xpectro-Zendelsur-NZ9_7356-Mejorado-NR-2.webp
END:VEVENT
BEGIN:VEVENT
DTSTART;TZID=UTC:20250321T000000
DTEND;TZID=UTC:20250321T235959
DTSTAMP:20260419T155048
CREATED:20250214T121457Z
LAST-MODIFIED:20250214T121457Z
UID:23156-1742515200-1742601599@zendelsur-xpectro.es
SUMMARY:Xpectro en el Teatro Alameda
DESCRIPTION:Xpectro es un espectáculo multidisciplinar que aborda el autismo y otras neurodivergencias desde un enfoque creativo y pedagógico para invitar al espectador a adentrarse en un universo de emociones\, ofreciendo una mirada reflexiva y empática hacia la diversidad.
URL:https://zendelsur-xpectro.es/evento/xpectro-en-el-teatro-alameda-2/
LOCATION:Teatro Alameda
ATTACH;FMTTYPE=image/webp:https://zendelsur-xpectro.es/wp-content/uploads/2025/02/Xpectro-Zendelsur-NZ9_7356-Mejorado-NR-2.webp
END:VEVENT
BEGIN:VEVENT
DTSTART;TZID=UTC:20250311T190000
DTEND;TZID=UTC:20250311T200000
DTSTAMP:20260419T155048
CREATED:20250214T103402Z
LAST-MODIFIED:20250214T103430Z
UID:23147-1741719600-1741723200@zendelsur-xpectro.es
SUMMARY:Órbita en Auditorio Instituto Cervantes de Nueva York
DESCRIPTION:Órbita es pura poesía en movimiento. Una obra cargada de emoción\, fuerza y sensibilidad\, que ofrece al público una visión integrada de una verdadera fusión artística entre danza acrobática\, danza urbana\, flamenco\, rueda Cyr\, boleadoras y acrobalance. Carlos López y Noemí Pareja\, dos artistas polifacéticos\, interactúan a través de diferentes estilos contemporáneos de movimiento\, elementos circenses\, danza y música en directo bajo la atracción gravitatoria de sus raíces: Andalucía y el flamenco. El espectáculo invita al público a un viaje onírico que nos guía hacia nuestras raíces. \nCopresentado con el Instituto Cervantes de Nueva York y el Centro KJCIC de la NYU. \nGRATUITO
URL:https://zendelsur-xpectro.es/evento/orbita-en-auditorio-instituto-cervantes-de-nueva-york/
LOCATION:Galería Instituto Cervantes de Nueva York\, 211-215 E 49th St\, Nueva York\, NY\, 10017\, United States
ATTACH;FMTTYPE=image/webp:https://zendelsur-xpectro.es/wp-content/uploads/2025/02/cartel-1-scaled-1.webp
END:VEVENT
BEGIN:VEVENT
DTSTART;TZID=UTC:20250307T190000
DTEND;TZID=UTC:20250307T200000
DTSTAMP:20260419T155048
CREATED:20250214T102554Z
LAST-MODIFIED:20250214T102554Z
UID:23142-1741374000-1741377600@zendelsur-xpectro.es
SUMMARY:Órbita en Auditorio Instituto Cervantes de Chicago
DESCRIPTION:Labelling “Zen del Sur” into a single modality within the performing arts sector is not an easy task. Their expressive language is the result of research and connection between disciplines such as dance\, live music and the circus\, knowing how to transmit a special sensitivity through body control and a creative dialogue between movement and sound. \nZen has known how to establish its own identity and expressive language. They maintain a commitment to society by transmitting human values through their shows. They support “art” as an essential element for both health and personal growth. \nThey support multidisciplinary artists and a learning model based on the exploration of new scenic practises. Their productions mainly focus towards planning at the venue’s intimacy\, sound quality and lighting offered by this type of spaces\, but always making adaptations for street programmes and galas. \nTherefore\, “Zen del Sur” could be described as a team work where artists\, designers and technicians converge towards a common goal: to excite the viewer and to generate a reflection on the ideas and feelings that the artists show on stage. \nÓrbita (Orbit) is pure poetry in motion. An emotionally charged work of art full of strength and sensitivity\, it offers the audience an integrated vision of a real artistic fusion between acrobatic dance\, urban dance\, flamenco\, Cyr wheel\, boleadoras\, and acrobalance. Carlos López and Noemí Pareja\, two multitalented artists\, interact through different contemporary styles of movement\, circus elements\, dance\, and live music under the gravitational attraction of their roots: Andalucía and flamenco. The performance invites the audience on a dreamlike journey that guides us towards our roots. \nEntradas ya a la venta en: www.eventbrite.com/e/orbita-tickets
URL:https://zendelsur-xpectro.es/evento/orbita-en-auditorio-instituto-cervantes-de-chicago/
LOCATION:Auditorio Instituto Cervantes de Chicago\, 31 W Ohio St\, Chicago\, 60654\, United States
ATTACH;FMTTYPE=image/webp:https://zendelsur-xpectro.es/wp-content/uploads/2025/02/cartel-1-scaled-1.webp
END:VEVENT
BEGIN:VEVENT
DTSTART;TZID=UTC:20250218T231500
DTEND;TZID=UTC:20250219T001500
DTSTAMP:20260419T155048
CREATED:20250214T094259Z
LAST-MODIFIED:20250214T094259Z
UID:23133-1739920500-1739924100@zendelsur-xpectro.es
SUMMARY:Xpectro en Feten 2025
DESCRIPTION:Xpectro es un espectáculo multidisciplinar que aborda el autismo y otras neurodivergencias desde un enfoque creativo y pedagógico para invitar al espectador a adentrarse en un universo de emociones\, ofreciendo una mirada reflexiva y empática hacia la diversidad. La obra trata sobre un encuentro entre dos seres neurodivergentes que descubren a través del circo\, la música y la danza un medio donde poder comunicarse\, conectar\, expresar sus sentimientos y afrontar sus propios miedos y desafíos. \nEntradas a la venta a partir del Martes\, 18 de Febrero de 2025 a las 09:00 h. \nFETEN\, la Feria Internacional de artes escénicas para niños\, niñas y familias de Gijón/Xixón\, se ha consolidado como el principal punto de encuentro de los profesionales del sector infantil de las artes escénicas en España. Su característica distintiva es la de crear además un evento ciudadano que hace del espacio un laboratorio en vivo de las preferencias y tendencias de los públicos actuales y futuros de la escena española.
URL:https://zendelsur-xpectro.es/evento/xpectro-en-feten-2025/
LOCATION:CC. Antiguo Instituto. Patio\, Centro de Cultura Antiguo Instituto\, C. Jovellanos\, 21\, Centro\, Gijón\, Asturias\, 33201
ATTACH;FMTTYPE=image/webp:https://zendelsur-xpectro.es/wp-content/uploads/2025/01/los-artistas-scaled.webp
ORGANIZER;CN="Feten 2025":MAILTO:feten@gijon.es
END:VEVENT
BEGIN:VEVENT
DTSTART;TZID=UTC:20250214T200000
DTEND;TZID=UTC:20250214T210000
DTSTAMP:20260419T155048
CREATED:20250214T091911Z
LAST-MODIFIED:20250214T095419Z
UID:23128-1739563200-1739566800@zendelsur-xpectro.es
SUMMARY:Xpectro en Teatro Circo Murcia
DESCRIPTION:Xpectro es un espectáculo multidisciplinar que aborda el autismo y otras neurodivergencias desde un enfoque creativo y pedagógico para invitar al espectador a adentrarse en un universo de emociones\, ofreciendo una mirada reflexiva y empática hacia la diversidad. La obra trata sobre un encuentro entre dos seres neurodivergentes que descubren a través del circo\, la música y la danza un medio donde poder comunicarse\, conectar\, expresar sus sentimientos y afrontar sus propios miedos y desafíos. \nEntradas ya a la venta en: teatrocircomurcia.compralaentrada.com \n 
URL:https://zendelsur-xpectro.es/evento/xpectro/
LOCATION:Teatro Circo Murcia\, C. Enrique Villar\, 11\, Murcia\, Murcia\, 30008\, Spain
ATTACH;FMTTYPE=image/webp:https://zendelsur-xpectro.es/wp-content/uploads/2025/01/xpectro-zendelsur3.webp
END:VEVENT
BEGIN:VEVENT
DTSTART;TZID=Europe/Madrid:20240729T220000
DTEND;TZID=Europe/Madrid:20240729T220000
DTSTAMP:20260419T155048
CREATED:20240408T115759Z
LAST-MODIFIED:20240408T115759Z
UID:23114-1722290400-1722290400@zendelsur-xpectro.es
SUMMARY:ÓRBITA en Jarandilla de la Vera (Extremadura)
DESCRIPTION:
URL:https://zendelsur-xpectro.es/evento/orbita-en-jarandilla-de-la-vera-extremadura/
LOCATION:Granada
END:VEVENT
BEGIN:VEVENT
DTSTART;TZID=Europe/Madrid:20240705T220000
DTEND;TZID=Europe/Madrid:20240705T220000
DTSTAMP:20260419T155048
CREATED:20240408T115629Z
LAST-MODIFIED:20240408T115629Z
UID:23112-1720216800-1720216800@zendelsur-xpectro.es
SUMMARY:ÓRBITA en L'Hospitalet de Llobregat
DESCRIPTION:
URL:https://zendelsur-xpectro.es/evento/orbita-en-lhospitalet-de-llobregat/
LOCATION:Granada
END:VEVENT
BEGIN:VEVENT
DTSTART;TZID=Europe/Madrid:20240607T100000
DTEND;TZID=Europe/Madrid:20240607T100000
DTSTAMP:20260419T155048
CREATED:20240404T132130Z
LAST-MODIFIED:20240404T132130Z
UID:23109-1717754400-1717754400@zendelsur-xpectro.es
SUMMARY:Showcase de Espectro - Panorama Circada
DESCRIPTION:
URL:https://zendelsur-xpectro.es/evento/showcase-de-espectro-panorama-circada/
LOCATION:Teatro Alameda
END:VEVENT
BEGIN:VEVENT
DTSTART;TZID=Europe/Madrid:20240316T200000
DTEND;TZID=Europe/Madrid:20240316T210000
DTSTAMP:20260419T155048
CREATED:20240313T080433Z
LAST-MODIFIED:20240313T080433Z
UID:23104-1710619200-1710622800@zendelsur-xpectro.es
SUMMARY:Órbita en Tarragona
DESCRIPTION:
URL:https://zendelsur-xpectro.es/evento/orbita-en-tarragona/
LOCATION:Teatre Tarragona\, Rambla Nova\, 11\, Tarragona\, 43003
END:VEVENT
BEGIN:VEVENT
DTSTART;TZID=Europe/Madrid:20230916T123000
DTEND;TZID=Europe/Madrid:20230917T153000
DTSTAMP:20260419T155048
CREATED:20230727T140001Z
LAST-MODIFIED:20230727T140001Z
UID:8980-1694867400-1694964600@zendelsur-xpectro.es
SUMMARY:Órbita - Out There Arts
DESCRIPTION:
URL:https://zendelsur-xpectro.es/evento/orbita-out-there-arts/
LOCATION:Reino Unido\, Great Yarmouth\, Reino Unido
END:VEVENT
BEGIN:VEVENT
DTSTART;TZID=Europe/Madrid:20230824T220000
DTEND;TZID=Europe/Madrid:20230824T230000
DTSTAMP:20260419T155048
CREATED:20230727T134816Z
LAST-MODIFIED:20230727T134816Z
UID:8976-1692914400-1692918000@zendelsur-xpectro.es
SUMMARY:Órbita - Balcón del Atlántico de Matalascañas
DESCRIPTION:
URL:https://zendelsur-xpectro.es/evento/orbita-balcon-del-atlantico-de-matalascanas/
LOCATION:Balcón del Atlántico de Matalascañas\, España
END:VEVENT
BEGIN:VEVENT
DTSTART;TZID=Europe/Madrid:20230819T170000
DTEND;TZID=Europe/Madrid:20230820T210000
DTSTAMP:20260419T155048
CREATED:20230727T131554Z
LAST-MODIFIED:20230727T131554Z
UID:8968-1692464400-1692565200@zendelsur-xpectro.es
SUMMARY:Órbita - Festival Encore!
DESCRIPTION:
URL:https://zendelsur-xpectro.es/evento/festival-encore/
LOCATION:Alemania\, Sarrebruck\, 66121\, Alemania
END:VEVENT
BEGIN:VEVENT
DTSTART;TZID=Europe/Madrid:20230811T213000
DTEND;TZID=Europe/Madrid:20230811T223000
DTSTAMP:20260419T155048
CREATED:20230727T133550Z
LAST-MODIFIED:20230727T133550Z
UID:8971-1691789400-1691793000@zendelsur-xpectro.es
SUMMARY:Órbita - 42º Festival de Verano de Camargo
DESCRIPTION:
URL:https://zendelsur-xpectro.es/evento/42o-festival-de-verano-de-camargo/
LOCATION:Camargo\, Plaza del Ayuntamiento de Camargo\, Cantabria\, España
END:VEVENT
BEGIN:VEVENT
DTSTART;TZID=Europe/Madrid:20230527T170000
DTEND;TZID=Europe/Madrid:20230528T180000
DTSTAMP:20260419T155048
CREATED:20230504T211947Z
LAST-MODIFIED:20230504T211947Z
UID:8955-1685206800-1685296800@zendelsur-xpectro.es
SUMMARY:Festival Het Tussenland
DESCRIPTION:
URL:https://zendelsur-xpectro.es/evento/festival-het-tussenland/
LOCATION:Zwolle\, Paises Bajos
END:VEVENT
END:VCALENDAR